BEGIN:VCALENDAR
VERSION:2.0
BEGIN:VEVENT
URL:https://1rodina.cz/index.php/sit-1rodina/udalosti/viewevent/77-zemedelske-demonstrace-v-dobe-od-15-2-2024-do-19-2-2024 
DTSTART:20240215T000000
DTEND:20240219T001500
SUMMARY:.ZEMĚDĚLSKÉ DEMONSTRACE V DOBĚ OD 15. 2. 2024 do 19.2.2024.
DESCRIPTION:Pan JANDEJSEK SE JASNÉ VYJÁDŘIL V PROTIPROUDU, ŽE NECHCE ABY SE TÉTO AKCE CHYTALI POLITICI A PIDISTRANY což je pro nás jasná zpráva
LOCATION:Česká republika
END:VEVENT
END:VCALENDAR