BEGIN:VCALENDAR
VERSION:2.0
BEGIN:VEVENT
URL:https://1rodina.cz/index.php/sit-1rodina/udalosti/viewevent/78-je-to-potvrzene-lada-nas-zve-na-19-2-2024-do-prahy 
DTSTART:20240219T000000
DTEND:20240219T001500
SUMMARY:JE TO POTVRZENÉ LÁĎA NÁS ZVE NA 19.2.2024 DO PRAHY
DESCRIPTION:
LOCATION:Praha
END:VEVENT
END:VCALENDAR