BEGIN:VCALENDAR
VERSION:2.0
BEGIN:VEVENT
URL:https://1rodina.cz/index.php/sit-1rodina/udalosti/viewevent/8-cesko-slovenske-pratelske-setkani-26-27-8-2023-na-kohutke 
DTSTART:20230826T110000
DTEND:20230827T120000
SUMMARY:Česko-Slovenské přátelské setkání 26.-27.8.2023 na Kohútke 
DESCRIPTION:<p>DRŽÍME STÁLE SPOLU ! <br /></p><p>NAŠE VZŤAHY A SILA JE EŠTE SILNEJŠIA A PEVNEJŠIA !</p><p>POMÁHAME SI A PODPORUJEME SA !</p><p>JEDINE V JEDNOTE VŠETKO PREKONÁME A SPOLOČNE ZVLÁDNEME !<br /></p>
LOCATION:Kohútka, Horská chata, súradnice    49.29512671860641,     18.229898057325094
END:VEVENT
END:VCALENDAR