BEGIN:VCALENDAR
VERSION:2.0
BEGIN:VEVENT
URL:https://1rodina.cz/index.php/sit-1rodina/udalosti/viewevent/80-v-krizovce-mi-vyslo-ze-hruzovlada-je-teror 
DTSTART:20240207T000000
DTEND:20240207T001500
SUMMARY:V KŘÍŽOVCE MI VYŠLO, ŽE HRÚZOVLÁDA JE TEROR
DESCRIPTION:Napadlo mne jak zvrácená je morálka hrůzovládců když tvrdí, že s TERORISTY SE NEVYJEDNÁVÁ( a myslí tím občany své chlebodárce). napadlo mne to staré České JAK SE DO LESA VOLÁ TAK SE Z LESA OZÝVÁ - aby je ta jejich slova nedoběhla.
LOCATION:Svět
END:VEVENT
END:VCALENDAR