BEGIN:VCALENDAR
VERSION:2.0
BEGIN:VEVENT
URL:https://1rodina.cz/index.php/sit-1rodina/udalosti/viewevent/81-ochrana-ceske-kotliny 
DTSTART:20240209T000000
DTEND:20241231T001500
SUMMARY:OCHRANA ČESKÉ KOTLINY
DESCRIPTION:Přátelé podařilo se vytvořit síť krystaliscých zářičů a ta ochraňuje CELÝ PROSTOR ČESKÉ REPUBLIKY a SRBSKA eliminuje všechny negativní vlivy z okolí a vytváří bezpečné prostředí MÁME OCHRANU A NA NAŠÍ STRANĚ JE PRÁVO NA SVOBODNÝ ŽIVOT. TAK TO JE A NIC a NIKDO TO NEMÚŽE ZMĚNIT. 
LOCATION:Česká republika a SRBSKO
END:VEVENT
END:VCALENDAR