BEGIN:VCALENDAR
VERSION:2.0
BEGIN:VEVENT
URL:https://1rodina.cz/index.php/sit-1rodina/udalosti/viewevent/82-osobni-aktivita-aneb-precitana-moudra 
DTSTART:20240212T000000
DTEND:20240229T000000
SUMMARY:OSOBNÍ AKTIVITA ANEB PŘEČÍTANÁ MOUDRA 
DESCRIPTION:<span>Přátelé sleduji pozorně snůšku všemožných mouder a nějak mi uniká REALIZACE  NAŠEHO PLÁNU. Pro stromy nevidíme les.</span><div>K realizaci vede demise vlády, předčasné volby a změna systému . Momentálně roznášíme s Tomášem Hrdličkou letáky na setkání Láďa Tour v Náchodě. a co kdo máte k realizace našich cílů. Pište, pište , pište...</div>
LOCATION:Česká republika
END:VEVENT
END:VCALENDAR