BEGIN:VCALENDAR
VERSION:2.0
BEGIN:VEVENT
URL:https://1rodina.cz/index.php/sit-1rodina/udalosti/viewevent/83-zazitky-z-vylepovani-plakatu 
DTSTART:20240213T000000
DTEND:20240229T000000
SUMMARY:ZÁŽITKY Z VYLEPOVÁNÍ PLAKÁTÚ
DESCRIPTION: V technických službách jsem zadal vylepování plakátů a je v tom zahrnuto i vylepení - TÍM JE LUKÁŠI VAŘEŠENO I LEPIDLO a když jsem po paní chtěl kontakt na "lepiče" nechápavě na mne zírala, tak jsem jí vysvětlil, že bych si s lepičem domluvil lukrativní místo na vývěsní desce a to už se smála a řekla, " TAKOVÉHO VYSÍRKU JSME TU JEŠTĚ NEMĚLI"
LOCATION:Jaroměř
END:VEVENT
END:VCALENDAR