BEGIN:VCALENDAR
VERSION:2.0
BEGIN:VEVENT
URL:https://1rodina.cz/index.php/sit-1rodina/udalosti/viewevent/84-170-nasich-deti-v-nemocnici-a-krutovlada-ceka-na-rozhodnuti-o-zakazu-prodeje-nikym-nevolenym-organem 
DTSTART:20240214T000000
DTEND:20240229T000000
SUMMARY:170 NAŠICH DĚTÍ V NEMOCNICI a krutovláda čeká na rozhodnutí o zákazu prodeje nikým nevoleným orgánem
DESCRIPTION:Přátelé. krutovláda zakáže DROGY prodávané NAŠIM dětem až po povolení nikým nevoleným orgánem a to evropské komise. A při tom už rok zadržuje zákon po zákazu prodej drog v cukrovinkách.
LOCATION:SVĚT
END:VEVENT
END:VCALENDAR