BEGIN:VCALENDAR
VERSION:2.0
BEGIN:VEVENT
URL:https://1rodina.cz/index.php/sit-1rodina/udalosti/viewevent/85-kes-pratele-muj-navrh-se-jevi-jako-spravny 
DTSTART:20240219T000000
DTEND:20240229T001500
SUMMARY:KEŠ - přátelé můj návrh se jeví jako správný
DESCRIPTION:Přátelé, když jsme posílali podporu Bojance na soudní výlohy, navrhoval jsem podporu z ruky do ruky jako nejbezpečnější způsob. Teď to Láďa podpořil a kdo pojedete do Prahy udělejte to tak. Pěkný den Ivoš Já Vám musím držet palce z postele z nichž jeden je po operaci vyztužený drátky. Vy to dáte. Tak to je. 
LOCATION:Praha
END:VEVENT
END:VCALENDAR