BEGIN:VCALENDAR
VERSION:2.0
BEGIN:VEVENT
URL:https://1rodina.cz/index.php/sit-1rodina/udalosti/viewevent/86-zmena-systemu-3-pokracovani-1-dil 
DTSTART:20240218T000000
DTEND:20241231T001500
SUMMARY:ZMÉNA SYSTÉMU 3. pokračování 1. díl
DESCRIPTION:Přátelé - Lukáši ty jsi přeborník, dejte sem na rodinu přednášku Petra Blahynky  z TV Bureše je to v podstatě vypracovaný dlouhodobý plán na změnu SYSTÉMU ,který je v souladu s programem Česká republika na 1. místě 
LOCATION:Česká republika
END:VEVENT
END:VCALENDAR