BEGIN:VCALENDAR
VERSION:2.0
BEGIN:VEVENT
URL:https://1rodina.cz/index.php/sit-1rodina/udalosti/viewevent/87-praha-sedlaci-i-spodina-my-jsme-jedna-rodina 
DTSTART:20240219T000000
DTEND:20240222T000000
SUMMARY:PRAHA - SEDLÁCI I SPODINA MY JSME JEDNA RODINA
DESCRIPTION:Přátelé, mám z akce se zemědělci velmi dobrý dojem  Lukáš a Ivča byli hvězdy u pódia. Protože marodím, mám ucelené informace od ministerstva, od úřadu nevlády z magistrály. Přátelé, na podatelně holky seděly a nechtěly dát razítko na přijetí požadavků - ostuda a i když to dostaly nařízené přece jenom jsou v zaměstnání a v úřední den a jsou námi placené - je to ostuda.
LOCATION:Praha
END:VEVENT
END:VCALENDAR