BEGIN:VCALENDAR
VERSION:2.0
BEGIN:VEVENT
URL:https://1rodina.cz/index.php/sit-1rodina/udalosti/viewevent/88-jedeme-dal 
DTSTART:20240222T000000
DTEND:20241231T001500
SUMMARY:JEDEME DÁL
DESCRIPTION:Přátelé zemědělcům jsme pomohli vytvořit vlasteneckou atmosféru. Bylo Vás - já jsem marodil opravdu hodně a jedeme dál. Chodil jsem po sousedech a vnímám, že jsou i úplně mimo - vůbec netuší, že nám všem jde o holé životy AKLE TO NEVADÍ JEDEME DÁL NA NAŠÍ STRANĚ JE ROZUM.
LOCATION:Česká republika
END:VEVENT
END:VCALENDAR