BEGIN:VCALENDAR
VERSION:2.0
BEGIN:VEVENT
URL:https://1rodina.cz/index.php/sit-1rodina/udalosti/viewevent/89-stat-nefunguje-a-funguje-jako-zakazkove-krejcovstvi-prisije-a-odpara-cokoli 
DTSTART:20240227T000000
DTEND:20241231T001500
SUMMARY:STÁT NEFUNGUJE - a funguje jako zakázkové krejčovství PŘIŠIJE A ODPÁRÁ COKOLI
DESCRIPTION:Pan Zbyněk Prousek na "Inovace republiky" popisuje funkci justice jako ZAKÁZKOVÉ KREJČOVSTVÍ - PŘIŠIJE A ODPÁRÁ COKOLI. 
LOCATION:Česká republika
END:VEVENT
END:VCALENDAR