BEGIN:VCALENDAR
VERSION:2.0
BEGIN:VEVENT
URL:https://1rodina.cz/index.php/sit-1rodina/udalosti/viewevent/90-fico-zachranil-situaci 
DTSTART:20240227T000000
DTEND:20240229T000000
SUMMARY:FICO ZACHRÁNIL SITUACI
DESCRIPTION:Přátelé tak jak je popsané jednání s makaronem vnímám prozrazené tajné jednání o nás bez nás  jako DOCELA VELKOU VÝHRU. Záměry jsou prozrazeny připravované listiny bez podpisů a makarón utřel. 
LOCATION:SVĚT
END:VEVENT
END:VCALENDAR