BEGIN:VCALENDAR
VERSION:2.0
BEGIN:VEVENT
URL:https://1rodina.cz/index.php/sit-1rodina/udalosti/viewevent/91-lada-tour-nachod-29-2-2024 
DTSTART:20240229T000000
DTEND:20240229T001500
SUMMARY:Láďa TOUR - Náchod 29.2.2024
DESCRIPTION:Přátelé k zítřejšímu setkání jsem po čtyřech okolních vesnicích roznesl ještě malé letáčky do schránek a PŘIPSAL JSEM TAM " VŠE NA "TV" : CR 1. LIVE, takže Ti gaučáci mohou setkání sledovat a přemýšlet o nesmrtelnosti chrousta 
LOCATION:Náchod
END:VEVENT
END:VCALENDAR