BEGIN:VCALENDAR
VERSION:2.0
BEGIN:VEVENT
URL:https://1rodina.cz/index.php/sit-1rodina/udalosti/viewevent/92-promena-planety-zeme-velke-zmeny 
DTSTART:20240301T000000
DTEND:20241231T001500
SUMMARY:PROMĚNA PLANETY ZEMĚ - VELKÉ ZMĚNY 
DESCRIPTION:V době změn se zemská osa postupně vychýlila o 12 stupňů. Tím pádem dopadá na nás i na Měsíc sluneční záření pod jiným úhlem. Bude to patrné například na lavičce na stálo umístěné pod stromem, že se stín posune a nebo osvětlení měsíce ve fázi 1/4 kdy je ho vidět 1/2 a do úplňku se to ale dorovná. Mám to pouze z jednoho zdroje a budu rád, když si toho začneme všímat a porovnáme skutečnosti.     
LOCATION:SVĚT
END:VEVENT
END:VCALENDAR