BEGIN:VCALENDAR
VERSION:2.0
BEGIN:VEVENT
URL:https://1rodina.cz/index.php/sit-1rodina/udalosti/viewevent/93-mame-zalozeny-ucet-v-bance 
DTSTART:20240304T000000
DTEND:20241231T001500
SUMMARY:MÁME ZALOŽENÝ ÚČET V BANCE
DESCRIPTION:Přátelé konečně máme po různých útrapách založený účet v bance. Na tom je vidět jak je svět řízený přes peníze a JAK SE CHUDÁČKOVÉ BOJÍ sjednocování  svých občanů v různých hnutích a spolcích. V tom je naše síla. . Krůček po krůčku si vezmeme svou zemi pod svou kontrolu.
LOCATION:Česká republika
END:VEVENT
END:VCALENDAR