BEGIN:VCALENDAR
VERSION:2.0
BEGIN:VEVENT
URL:https://1rodina.cz/index.php/sit-1rodina/udalosti/viewevent/94-institut-pro-vyzkum-miru 
DTSTART:20240306T000000
DTEND:20241231T001500
SUMMARY:INSTITUT PRO VÝZKUM MÍRU
DESCRIPTION:Přátelé ve Stokholmu existuje institut pro VÝZKUM míru nazvaný Sipris, taková kravina podobnou prezentovala Jiřina Bohdalová s Dvořákem v televarieté - Institut pro výzkum chůze a při tom je ve světě 49 autonomních AUTOMATICKÝCH (fungujících bez zásahu človíčka)  válečných systémů. Všichni zbrojí a institut zkoumá MÍR. Mě to hlava nebere.
LOCATION:SVĚT
END:VEVENT
END:VCALENDAR