BEGIN:VCALENDAR
VERSION:2.0
BEGIN:VEVENT
URL:https://1rodina.cz/index.php/sit-1rodina/udalosti/viewevent/95-je-cas-vyvesit-bilou-vlajku 
DTSTART:20240309T000000
DTEND:20240430T001500
SUMMARY:JE ČAS VYVĚSIT BÍLOU VLAJKU
DESCRIPTION:Papež vyzval vyznavače bandery k vyvěšení bílé vlajky. To je docela zajímavé.
LOCATION:Svět
END:VEVENT
END:VCALENDAR