BEGIN:VCALENDAR
VERSION:2.0
BEGIN:VEVENT
URL:https://1rodina.cz/index.php/sit-1rodina/udalosti/viewevent/96-zdravim-tomase-hrdlicku-na-rodine 
DTSTART:20240310T000000
DTEND:20240331T000000
SUMMARY:Zdravím Tomáše Hrdličku na RODINĚ  
DESCRIPTION:Tomáši, zjistil jsem že jsi byl včera na Rodině zatím jako pozorovatel tak nám něco řekni.
LOCATION:Vesnice u Meziměstí nechci to komolit myslím že začíná na Ž
END:VEVENT
END:VCALENDAR