BEGIN:VCALENDAR
VERSION:2.0
BEGIN:VEVENT
URL:https://1rodina.cz/index.php/sit-1rodina/udalosti/viewevent/97-mozny-konec-na-1-miste 
DTSTART:20240328T000000
DTEND:20240328T001500
SUMMARY:Možný konec na 1. místě
DESCRIPTION:<span>TOP 09 mi posílá emaily už 15 let. Přísaha, Trikolora, Svobodní, PRO, Vaklav 
</span><div>Klaus a další mi také pravidelně posílají emaily. Jen Ladislav Vrabel na mě kašle. </div><div>Asi dopadne tak jako Lumobír Volný, který neposílal emaily. </div>
LOCATION:Ostrava, Moravskoslezský, Česká Republika
END:VEVENT
END:VCALENDAR