BEGIN:VCALENDAR
VERSION:2.0
BEGIN:VEVENT
URL:https://1rodina.cz/index.php/sit-1rodina/udalosti/viewevent/98-kasel-v-nevlade 
DTSTART:20240313T000000
DTEND:20240320T000000
SUMMARY:KAŠEL v NEVLÁDĚ
DESCRIPTION:Přátelé posranec svoboda se po třech hodinách  jednání v rozčilení prokecl že má čtvrtý den nejčernější kašílek a když si od něj odsedli prohlásil, že ho ve škole učili, že po třech dnech není infekční ale že mu je blbě. Primula si nenasadil před východem z budovy a neměli celých deset metrů k autu roušku a donutili ho na základě šíření vitusu bacilusu ODSTOUPIT z postu MINISTRA ZDRAVOTNICTVÍ, to je bomba.
LOCATION:Praha
END:VEVENT
END:VCALENDAR